BEGIN:VCALENDAR
VERSION:2.0
PRODID:-//ChamberMaster//Event Calendar 2.0//EN
METHOD:PUBLISH
X-PUBLISHED-TTL:P3D
REFRESH-INTERVAL:P3D
CALSCALE:GREGORIAN
BEGIN:VEVENT
DTSTART:20130129T173000Z
DTEND:20130129T183000Z
X-MICROSOFT-CDO-ALLDAYEVENT:FALSE
SUMMARY:Introducing Rodan + Fields Dermatologists
DESCRIPTION:The creators of Proactiv Solution\, Drs. Katie Rodan and Kathie Fields\, have taken their top-selling anti-age and other skin solutions from behind retail counters and are bringing them directly to you!  Come see what has beauty industry leaders "abuzz" with excitement and have a great lunch!
X-ALT-DESC;FMTTYPE=text/html:<p style="margin: 0in 0in 0pt\;">\n	<font color="#000000"><font face="Times New Roman"><span style="font-size: 13.5pt\;">The creators of Proactiv Solution\, Drs. Katie Rodan and Kathie Fields\, have taken their top-selling anti-age and other skin solutions from behind retail counters and are bringing them directly to you!&nbsp\; Come see what has beauty industry leaders &ldquo\;abuzz&rdquo\; with excitement&hellip\;and have a great lunch!</span><font size="3"> <span _fck_bookmark="1" style="display: none\;">&nbsp\;</span></font></font></font></p>\n
LOCATION:Next Wood Fired Bistro & Vino Bar 5003 Colleyville Blvd. Colleyville\, TX 76034
UID:e.642.5178
SEQUENCE:3
DTSTAMP:20260423T052419Z
URL:https://business.colleyvillechamber.org/events/details/introducing-rodan-fields-dermatologists-01-29-2013-5178
END:VEVENT

END:VCALENDAR
