BEGIN:VCALENDAR
VERSION:2.0
PRODID:-//ChamberMaster//Event Calendar 2.0//EN
METHOD:PUBLISH
X-PUBLISHED-TTL:P3D
REFRESH-INTERVAL:P3D
CALSCALE:GREGORIAN
BEGIN:VEVENT
DTSTART:20120824T234500Z
DTEND:20120825T013000Z
X-MICROSOFT-CDO-ALLDAYEVENT:FALSE
SUMMARY:Investments and the Economy Re-Examined
DESCRIPTION:Let's distinguish the "News" from the "Noise"!  This is no boring lecture...this is relevant and\, yes\, entertaining!\n\n\n\n*  What is currently happening in Corporate America?\n\n*  How do the situations in Europe impact us?\n\n*  What role does gold play in our investment strategy?\n\n*  Are we headed for a "double-dip" recession?\n\n*  Health Care Reform...impact on American business?\n\n\n\nInformation and Commentary by:\n\nBrad Haynes - Director\, Legg Mason Global Asset Management (19 years)\n\nMitchell Stevens - Regional Vice President\, Primerica (23 years)
X-ALT-DESC;FMTTYPE=text/html:Let&#39\;s distinguish the &quot\;News&quot\; from the &quot\;Noise&quot\;!&nbsp\; This is no boring lecture...this is relevant and\, yes\, entertaining!<br />\n<br />\n*&nbsp\; What is currently happening in Corporate America?<br />\n*&nbsp\; How do the situations in Europe impact us?<br />\n*&nbsp\; What role does gold play in our investment strategy?<br />\n*&nbsp\; Are we headed for a &quot\;double-dip&quot\; recession?<br />\n*&nbsp\; Health Care Reform...impact on American business?<br />\n<br />\nInformation and Commentary by:<br />\nBrad Haynes - Director\, Legg Mason Global Asset Management (19 years)<br />\nMitchell Stevens - Regional Vice President\, Primerica (23 years)
LOCATION:13111 N. Central Expressway\, Suite 500 Dallas\, TX 75243
UID:e.642.5066
SEQUENCE:3
DTSTAMP:20260423T140739Z
URL:https://business.colleyvillechamber.org/events/details/investments-and-the-economy-re-examined-08-24-2012-5066
END:VEVENT

END:VCALENDAR
