BEGIN:VCALENDAR
VERSION:2.0
PRODID:-//ChamberMaster//Event Calendar 2.0//EN
METHOD:PUBLISH
X-PUBLISHED-TTL:P3D
REFRESH-INTERVAL:P3D
CALSCALE:GREGORIAN
BEGIN:VEVENT
DTSTART:20220812T170000Z
DTEND:20220812T183000Z
X-MICROSOFT-CDO-ALLDAYEVENT:FALSE
SUMMARY:Jeff Guinn: Author Luncheon
DESCRIPTION:Guinn. He will be discussing his book The Last Gunfight: The Real Story of the Shootout at the O.K. Corral - and How It Changed the American West. A light lunch will be served and there will be a book signing following the author's presentation. Registration is required. For more information or to register\, contact Adult Services at 817.503.1155 or email reference@colleyville.com.
X-ALT-DESC;FMTTYPE=text/html:Guinn. He will be discussing his book The Last Gunfight: The Real Story of the Shootout at the O.K. Corral - and How It Changed the American West. A light lunch will be served and there will be a book signing following the author&#39\;s presentation. Registration is required. For more information or to register\, contact Adult Services at 817.503.1155 or email reference@colleyville.com.
LOCATION:Public Library 110 Main Street Colleyville\, Texas 76034
UID:e.642.26537
SEQUENCE:3
DTSTAMP:20260424T210857Z
URL:https://business.colleyvillechamber.org/events/details/jeff-guinn-author-luncheon-26537
END:VEVENT

END:VCALENDAR
