BEGIN:VCALENDAR
VERSION:2.0
PRODID:-//ChamberMaster//Event Calendar 2.0//EN
METHOD:PUBLISH
X-PUBLISHED-TTL:P3D
REFRESH-INTERVAL:P3D
CALSCALE:GREGORIAN
BEGIN:VEVENT
DTSTART:20120412T220000Z
DTEND:20120413T000000Z
X-MICROSOFT-CDO-ALLDAYEVENT:FALSE
SUMMARY:Joint Chamber Mixer
DESCRIPTION:Joint Chamber Mixer at Hilton Hotel Southlake Town Square - Tickets Required and Limited.  Contact Colleyville Chamber to pick up your complimentary ticket.  Cash bar at event.
X-ALT-DESC;FMTTYPE=text/html:Joint Chamber Mixer at Hilton Hotel Southlake Town Square - Tickets Required and Limited.&nbsp\; Contact Colleyville Chamber to pick up your complimentary ticket.&nbsp\; Cash bar at event.<br />\n<br />\n<table cellpadding="0" cellspacing="0" width="100%">\n	<tbody>\n		<tr>\n			<td style="border-bottom: #000000\; border-left: #000000\; border-top: #000000\; border-right: #000000">\n				<div style="padding-bottom: 2.88pt\; padding-left: 2.88pt\; padding-right: 2.88pt\; padding-top: 2.88pt">\n					&nbsp\;<br />\n					<br />\n					<br />\n					<br />\n					&nbsp\;<br />\n					&nbsp\;</div>\n			</td>\n		</tr>\n	</tbody>\n</table>\n<br />\n&nbsp\;<br />\n&nbsp\;<br />\n&nbsp\;<br />\n&nbsp\;<br />\n&nbsp\;<br />\n&nbsp\;<br />\n&nbsp\;<br />\n&nbsp\;<br />\n&nbsp\;<br />\n&nbsp\;<br />\n&nbsp\;<br />\n&nbsp\;<br />\n&nbsp\;<br />\n&nbsp\;<br />\n<br clear="all" />\n<br />\n&nbsp\;<br />\n&nbsp\;<br />\n&nbsp\;<br />\n&nbsp\;<br />\n&nbsp\;<br />\n&nbsp\;<br />\n&nbsp\;<br />\n&nbsp\;<br />\n&nbsp\;<br />\n&nbsp\;<br />\n&nbsp\;<br />\n&nbsp\;<br />\n&nbsp\;<br />\n&nbsp\;<br />\n&nbsp\;<br />\n&nbsp\;<br />\n&nbsp\;&nbsp\;<br />\n
LOCATION:
UID:e.642.5019
SEQUENCE:3
DTSTAMP:20260423T195714Z
URL:https://business.colleyvillechamber.org/events/details/joint-chamber-mixer-04-12-2012-5019
END:VEVENT

END:VCALENDAR
