BEGIN:VCALENDAR
VERSION:2.0
PRODID:-//ChamberMaster//Event Calendar 2.0//EN
METHOD:PUBLISH
X-PUBLISHED-TTL:P3D
REFRESH-INTERVAL:P3D
CALSCALE:GREGORIAN
BEGIN:VEVENT
DTSTART:20121009T220000Z
DTEND:20121010T000000Z
X-MICROSOFT-CDO-ALLDAYEVENT:FALSE
SUMMARY:Joint Chamber Mixer
DESCRIPTION:Glass Cactus\, 1501 Gaylord Trail\n\n	Grapevine\, TX\n\n	Tickets Required and Limited!  Contact Chamber to pick up your complimentary ticket.\n\n	Cash Bar at Event
X-ALT-DESC;FMTTYPE=text/html:<p>\n	Glass Cactus\, 1501 Gaylord Trail<br />\n	Grapevine\, TX<br />\n	Tickets Required and Limited!&nbsp\; Contact Chamber to pick up your complimentary ticket.<br />\n	Cash Bar at Event</p>\n
LOCATION:
UID:e.642.5097
SEQUENCE:3
DTSTAMP:20260423T104942Z
URL:https://business.colleyvillechamber.org/events/details/joint-chamber-mixer-10-09-2012-5097
END:VEVENT

END:VCALENDAR
