BEGIN:VCALENDAR
VERSION:2.0
PRODID:-//ChamberMaster//Event Calendar 2.0//EN
METHOD:PUBLISH
X-PUBLISHED-TTL:P3D
REFRESH-INTERVAL:P3D
CALSCALE:GREGORIAN
BEGIN:VEVENT
DTSTART:20131029T220000Z
DTEND:20131030T000000Z
X-MICROSOFT-CDO-ALLDAYEVENT:FALSE
SUMMARY:Joint Chamber Mixer
DESCRIPTION:Multi-chamber networking event at the Glass Cactus in Grapevine.  A ticket is required for entry\, and tickets are limited per Chamber.
X-ALT-DESC;FMTTYPE=text/html:Multi-chamber networking event at the Glass Cactus in Grapevine.&nbsp\; A ticket is required for entry\, and tickets are limited per Chamber.
LOCATION:
UID:e.642.5706
SEQUENCE:3
DTSTAMP:20260422T145202Z
URL:https://business.colleyvillechamber.org/events/details/joint-chamber-mixer-10-29-2013-5706
END:VEVENT

END:VCALENDAR
