BEGIN:VCALENDAR
VERSION:2.0
PRODID:-//ChamberMaster//Event Calendar 2.0//EN
METHOD:PUBLISH
X-PUBLISHED-TTL:P3D
REFRESH-INTERVAL:P3D
CALSCALE:GREGORIAN
BEGIN:VEVENT
DTSTART:20140327T150000Z
DTEND:20140327T170000Z
X-MICROSOFT-CDO-ALLDAYEVENT:FALSE
SUMMARY:KCB Cotton Belt Trail Cleanup
DESCRIPTION:Thursday\, March 27th\, 10:00 A.M. (weather pending) the KCB Board will clean a stretch of the Cotton Belt Trail starting at the Pleasant Run Park. We welcome all help!
X-ALT-DESC;FMTTYPE=text/html:<span style="font-size: 12pt\;"><span style="font-family: times new roman\,serif\;">Thursday\, March 27th\, 10:00 A.M. (weather pending) the KCB Board will clean a stretch of the Cotton Belt Trail starting at the Pleasant Run Park. We welcome all help!</span></span><br />\n<br />\n&nbsp\;
LOCATION:
UID:e.642.6845
SEQUENCE:3
DTSTAMP:20260422T083601Z
URL:https://business.colleyvillechamber.org/events/details/kcb-cotton-belt-trail-cleanup-03-27-2014-6845
END:VEVENT

END:VCALENDAR
