BEGIN:VCALENDAR
VERSION:2.0
PRODID:-//ChamberMaster//Event Calendar 2.0//EN
METHOD:PUBLISH
X-PUBLISHED-TTL:P3D
REFRESH-INTERVAL:P3D
CALSCALE:GREGORIAN
BEGIN:VEVENT
DTSTART:20141218T143000Z
DTEND:20141218T153000Z
X-MICROSOFT-CDO-ALLDAYEVENT:FALSE
SUMMARY:Keep Colleyville Beautiful
DESCRIPTION:KCB Meeting at Colleyville Parks and Recreation Dept.\n\n5109 Bransford Rd.\n\nColleyville
X-ALT-DESC;FMTTYPE=text/html:KCB Meeting at Colleyville Parks and Recreation Dept.<br />\n5109&nbsp\;Bransford Rd.<br />\nColleyville
LOCATION:
UID:e.642.4899
SEQUENCE:3
DTSTAMP:20260421T153446Z
URL:https://business.colleyvillechamber.org/events/details/keep-colleyville-beautiful-12-18-2014-4899
END:VEVENT

END:VCALENDAR
