BEGIN:VCALENDAR
VERSION:2.0
PRODID:-//ChamberMaster//Event Calendar 2.0//EN
METHOD:PUBLISH
X-PUBLISHED-TTL:P3D
REFRESH-INTERVAL:P3D
CALSCALE:GREGORIAN
BEGIN:VEVENT
DTSTART:20130420T133000Z
DTEND:20130420T170000Z
X-MICROSOFT-CDO-ALLDAYEVENT:FALSE
SUMMARY:Keep Colleyville Beautiful Clean Sweep
DESCRIPTION:The mission of Keep Colleyville Beautiful is to enhance the environment of Colleyville through involvement in litter eradication and beautification projects. \n\n\n\nCall 817-503-1180 to volunteer!
X-ALT-DESC;FMTTYPE=text/html:The mission of Keep Colleyville Beautiful is to enhance the environment of Colleyville through involvement in litter eradication and beautification projects.&nbsp\;<br />\n<br />\nCall 817-503-1180 to volunteer!
LOCATION:McPherson Park 240 W McDonwell School Rd. Colleyville\, TX 76034
UID:e.642.5608
SEQUENCE:3
DTSTAMP:20260423T001059Z
URL:https://business.colleyvillechamber.org/events/details/keep-colleyville-beautiful-clean-sweep-04-20-2013-5608
END:VEVENT

END:VCALENDAR
