BEGIN:VCALENDAR
VERSION:2.0
PRODID:-//ChamberMaster//Event Calendar 2.0//EN
METHOD:PUBLISH
X-PUBLISHED-TTL:P3D
REFRESH-INTERVAL:P3D
CALSCALE:GREGORIAN
BEGIN:VEVENT
DTSTART:20121013T133000Z
DTEND:20121013T180000Z
X-MICROSOFT-CDO-ALLDAYEVENT:FALSE
SUMMARY:Keep Colleyville Beautiful Clean Sweep
DESCRIPTION:McPherson Park\n\n240 West McDonwell School Rd.\n\nColleyville\n\nVolunteer to keep our City clean\, and earn community service hours.
X-ALT-DESC;FMTTYPE=text/html:McPherson Park<br />\n240 West McDonwell School Rd.<br />\nColleyville<br />\nVolunteer to keep our City clean\, and earn community service hours.<br />\n<br />\n
LOCATION:
UID:e.642.5087
SEQUENCE:3
DTSTAMP:20260423T105206Z
URL:https://business.colleyvillechamber.org/events/details/keep-colleyville-beautiful-clean-sweep-10-13-2012-5087
END:VEVENT

END:VCALENDAR
