BEGIN:VCALENDAR
VERSION:2.0
PRODID:-//ChamberMaster//Event Calendar 2.0//EN
METHOD:PUBLISH
X-PUBLISHED-TTL:P3D
REFRESH-INTERVAL:P3D
CALSCALE:GREGORIAN
BEGIN:VEVENT
DTSTART;VALUE=DATE:20131023
DTEND;VALUE=DATE:20131024
TRANSP:TRANSPARENT
X-MICROSOFT-CDO-ALLDAYEVENT:TRUE
SUMMARY:Kidds Kids Day
DESCRIPTION:On Wednesday October 23rd\, All Raising Canes locations nationwide will donate 15% of their net sales to the Kidds kids organization founded by the late Kidd Kradick. Visit your local Raising Canes in Hurst or Euless to support this great cause.
X-ALT-DESC;FMTTYPE=text/html:On Wednesday October 23rd\, All Raising Canes locations nationwide will donate 15% of their net sales to the Kidds kids organization founded by the late Kidd Kradick. Visit your local Raising Canes in Hurst or Euless to support this great cause.
LOCATION:Raising Canes Hurst/Euless locations
UID:e.642.5985
SEQUENCE:3
DTSTAMP:20260422T145202Z
URL:https://business.colleyvillechamber.org/events/details/kidds-kids-day-10-23-2013-5985
END:VEVENT

END:VCALENDAR
