BEGIN:VCALENDAR
VERSION:2.0
PRODID:-//ChamberMaster//Event Calendar 2.0//EN
METHOD:PUBLISH
X-PUBLISHED-TTL:P3D
REFRESH-INTERVAL:P3D
CALSCALE:GREGORIAN
BEGIN:VEVENT
DTSTART:20150509T180000Z
DTEND:20150509T200000Z
X-MICROSOFT-CDO-ALLDAYEVENT:FALSE
SUMMARY:Kidgits Around the World
DESCRIPTION:Saturday\, May 9\n\n1:00 pm - 3:00 pm\, Center Court\n\n\n\nKids will gain an appreciation of world diversity and culture as they learn that it really is a "small world after all."\n\n\n\nUpon check-in\, Kidgits members will receive a Passport to visit the different countries and then they can "backpack" around the world.  By visiting each country they get a stamp in their passport and a goody item for that country.  Once the passport is full\, they can Spin the Wheel for a prize.  \n\n\n\nKids can learn to use chopsticks\, sample foods and cuisine from different parts of the world\, plus enjoy a Hula dance performance and get a Mahalo lei!  \n\n\n\nThere will be hands-on craft projects for kids to participate in including a "Make Your Own" flag craft\, Pasta Art & Creations\, plus have fun down under with Kangaroo sack races and more!
X-ALT-DESC;FMTTYPE=text/html:Saturday\, May 9<br />\n1:00 pm - 3:00 pm\, Center Court<br />\n<br />\nKids will gain an appreciation of world diversity and culture as they learn that it really is a &quot\;small world after all.&quot\;<br />\n<br />\nUpon check-in\, Kidgits members will receive a Passport to visit the different countries and then they can &quot\;backpack&quot\; around the world. &nbsp\;By visiting each country they get a stamp in their passport and a goody item for that country. &nbsp\;Once the passport is full\, they can Spin the Wheel for a prize. &nbsp\;<br />\n<br />\nKids can learn to use chopsticks\, sample foods and cuisine from different parts of the world\, plus enjoy a Hula dance performance and get a Mahalo lei! &nbsp\;<br />\n<br />\nThere will be hands-on craft projects for kids to participate in including a &quot\;Make Your Own&quot\; flag craft\, Pasta Art &amp\; Creations\, plus have fun down under with Kangaroo sack races and more!
LOCATION:Center Court Near Macys
UID:e.642.7781
SEQUENCE:3
DTSTAMP:20260421T084050Z
URL:https://business.colleyvillechamber.org/events/details/kidgits-around-the-world-05-09-2015-7781
END:VEVENT

END:VCALENDAR
