BEGIN:VCALENDAR
VERSION:2.0
PRODID:-//ChamberMaster//Event Calendar 2.0//EN
METHOD:PUBLISH
X-PUBLISHED-TTL:P3D
REFRESH-INTERVAL:P3D
CALSCALE:GREGORIAN
BEGIN:VEVENT
DTSTART:20150314T180000Z
DTEND:20150314T200000Z
X-MICROSOFT-CDO-ALLDAYEVENT:FALSE
SUMMARY:Kidgits Book Blast
DESCRIPTION:Saturday\, March 14\n\n\n\n1:00 pm - 3:00 pm\, Center Court\n\n\n\nJoin us for a day that celebrates books and the joy of reading! Let kids discover the magic of reading and let their imagination take them on a fun-filled journey at the 12th Annual Kidgits Club Book Blast! The event will feature stories and interactive programs that bring the stories to life. \n\n\n\nListen as your favorite books are read by local celebrities from the community\, plus get creative at different activity stations based on literacy and book themed activities. Each child will be able to select a complimentary book to take home and enjoy\, provided by Better World Books. Plus\, there will be Balloon Twisters\, Spin the Wheel for prizes & more!\n\n\n\nThe event is free for Simon Kidgits Club Members\; $5 to become a member.
X-ALT-DESC;FMTTYPE=text/html:Saturday\, March 14<br />\n<br />\n1:00 pm - 3:00 pm\, Center Court<br />\n<br />\nJoin us for a day that celebrates books and the joy of reading! Let kids discover the magic of reading and let their imagination take them on a fun-filled journey at the 12th Annual Kidgits Club Book Blast! The event will feature stories and interactive programs that bring the stories to life.&nbsp\;<br />\n<br />\nListen as your favorite books are read by local celebrities from the community\, plus get creative at different activity stations based on literacy and book themed activities. Each child will be able to select a complimentary book to take home and enjoy\, provided by Better World Books. Plus\, there will be Balloon Twisters\, Spin the Wheel for prizes &amp\; more!<br />\n<br />\nThe event is free for Simon Kidgits Club Members\; $5 to become a member.
LOCATION:North East Mall Center Court
UID:e.642.7525
SEQUENCE:3
DTSTAMP:20260421T112249Z
URL:https://business.colleyvillechamber.org/events/details/kidgits-book-blast-03-14-2015-7525
END:VEVENT

END:VCALENDAR
