BEGIN:VCALENDAR
VERSION:2.0
PRODID:-//ChamberMaster//Event Calendar 2.0//EN
METHOD:PUBLISH
X-PUBLISHED-TTL:P3D
REFRESH-INTERVAL:P3D
CALSCALE:GREGORIAN
BEGIN:VEVENT
DTSTART:20150425T170000Z
DTEND:20150425T210000Z
X-MICROSOFT-CDO-ALLDAYEVENT:FALSE
SUMMARY:Kidgits Bounce Bonanza
DESCRIPTION:Celebrate the Spring season with a "Bounce Bonanza" event on Saturday\, April 26 from 12 pm - 4 pm in Center Court for Simon Kidgits Club members!\n\n\n\nKidgits members will enjoy the thrill of an inflatable 18' DOUBLE Slide\, perfect for those little daredevils\, plus an inflatable obstacle course for the little tots.\n\n\n\nAll Kidgits members are free to jump as long as they like\, but a parent must be present. Simon Kidgits Club membership must be active at the time of event.\n\n\n\nTo purchase a membership\, or to renew your Simon Kidgits Club membership\, please see Guest Services in Center Court.
X-ALT-DESC;FMTTYPE=text/html:Celebrate the Spring season with a &quot\;Bounce Bonanza&quot\; event on Saturday\, April 26 from 12 pm - 4 pm in Center Court for Simon Kidgits Club members!<br />\n<br />\nKidgits members will enjoy the thrill of an inflatable 18&#39\; DOUBLE Slide\, perfect for those little daredevils\, plus an inflatable obstacle course for the little tots.<br />\n<br />\nAll Kidgits members are free to jump as long as they like\, but a parent must be present. Simon Kidgits Club membership must be active at the time of event.<br />\n<br />\nTo purchase a membership\, or to renew your Simon Kidgits Club membership\, please see Guest Services in Center Court.
LOCATION:North East Mall\, Center Court
UID:e.642.6860
SEQUENCE:3
DTSTAMP:20260421T100642Z
URL:https://business.colleyvillechamber.org/events/details/kidgits-bounce-bonanza-04-25-2015-6860
END:VEVENT

END:VCALENDAR
