BEGIN:VCALENDAR
VERSION:2.0
PRODID:-//ChamberMaster//Event Calendar 2.0//EN
METHOD:PUBLISH
X-PUBLISHED-TTL:P3D
REFRESH-INTERVAL:P3D
CALSCALE:GREGORIAN
BEGIN:VEVENT
DTSTART:20140405T180000Z
DTEND:20140419T200000Z
X-MICROSOFT-CDO-ALLDAYEVENT:FALSE
SUMMARY:Kidgits Craft Korner
DESCRIPTION:Join us for a 15-20 minute come-and-go craft program for Kidgits members on selected Saturday's this month\, April 5th and 19th! \n\n\n\nThe craft of the month for April is centered around spring and the upcoming Easter holiday! Kidgits members will be able to make a fun craft\, plus there will be coloring sheets and activity pages to go along with the event theme.\n\n\n\nAll materials and craft supplies will be provided. Kidgits Club membership applies.
X-ALT-DESC;FMTTYPE=text/html:Join us for a 15-20 minute come-and-go craft program for Kidgits members on selected Saturday&#39\;s this month\, April 5th and 19th!&nbsp\;<br />\n<br />\nThe craft of the month for April is centered around spring and the upcoming Easter holiday! Kidgits members will be able to make a fun craft\, plus there will be coloring sheets and activity pages to go along with the event theme.<br />\n<br />\nAll materials and craft supplies will be provided. Kidgits Club membership applies.
LOCATION:North East Mall\, Center Court
UID:e.642.6857
SEQUENCE:3
DTSTAMP:20260422T051737Z
URL:https://business.colleyvillechamber.org/events/details/kidgits-craft-korner-04-05-2014-6857
END:VEVENT

END:VCALENDAR
