BEGIN:VCALENDAR
VERSION:2.0
PRODID:-//ChamberMaster//Event Calendar 2.0//EN
METHOD:PUBLISH
X-PUBLISHED-TTL:P3D
REFRESH-INTERVAL:P3D
CALSCALE:GREGORIAN
BEGIN:VEVENT
DTSTART:20140412T160000Z
DTEND:20140412T180000Z
X-MICROSOFT-CDO-ALLDAYEVENT:FALSE
SUMMARY:Kidgits Egg-stravaganza
DESCRIPTION:Join us as we HOP into spring with the Kidgits Easter Egg-stravaganza event! This event is a celebration of the arrival of Spring and our favorite floppy-eared friend\, the Easter Bunny! \n\n\n\nYou won't want to miss fun activities including decorating your very own Easter bucket and participating in Bunny Hop sack races! There will be hands-on craft projects\, plus have Brunch with the Bunny and enjoy bite-size Chick-fil-A chicken nuggets and juice. \n\n\n\nEach Kidgits member will receive a goody bag with color sheets\, bunny ears\, and even a coupon good toward photos with the Easter Bunny.\n\n\n\nThe Easter Bunny will be available for visits and photo purchases starting at 10:00 am. \n\n\n\n*While supplies last.
X-ALT-DESC;FMTTYPE=text/html:Join us as we HOP into spring with the Kidgits Easter Egg-stravaganza event! This event is a celebration of the arrival of Spring and our favorite floppy-eared friend\, the Easter Bunny!&nbsp\;<br />\n<br />\nYou won&#39\;t want to miss fun activities including decorating your very own Easter bucket and participating in Bunny Hop sack races! There will be hands-on craft projects\, plus have Brunch with the Bunny and enjoy bite-size Chick-fil-A chicken nuggets and juice.&nbsp\;<br />\n<br />\nEach Kidgits member will receive a goody bag with color sheets\, bunny ears\, and even a coupon good toward photos with the Easter Bunny.<br />\n<br />\nThe Easter Bunny will be available for visits and photo purchases starting at 10:00 am.&nbsp\;<br />\n<br />\n*While supplies last.
LOCATION:North East Mall\, Center Court
UID:e.642.6858
SEQUENCE:3
DTSTAMP:20260422T051356Z
URL:https://business.colleyvillechamber.org/events/details/kidgits-egg-stravaganza-04-12-2014-6858
END:VEVENT

END:VCALENDAR
