BEGIN:VCALENDAR
VERSION:2.0
PRODID:-//ChamberMaster//Event Calendar 2.0//EN
METHOD:PUBLISH
X-PUBLISHED-TTL:P3D
REFRESH-INTERVAL:P3D
CALSCALE:GREGORIAN
BEGIN:VEVENT
DTSTART:20140223T000000Z
DTEND:20140223T050000Z
X-MICROSOFT-CDO-ALLDAYEVENT:FALSE
SUMMARY:Knights of Columbus-Las Vegas Night
DESCRIPTION:Come and enjoy an evening of Charity and Fun\, Las Vegas style.  You are invited to our Knights of Columbus 30th annual Casino night fund raiser.  This event is our biggest fund raiser of the year raising money for many local charities.   Detailed flyer available here\n\n	 \n\n	We would love to have you participate in one of 3 ways:\n\n	 \n\n	The First way to support this event is to come and play.  See the enclosed flyer for ticket prices and details.  Tickets include $2000 in poker chips and 2 free drink tickets. \n\n	 \n\n	Second\, donate your product or service for our silent auction or raffle.   We anticipate over 200 people will attend this gala affair and your participation will be recognized in our printed program given to each person in attendance.\n\n	 \n\n	Third\, sponsor a table at the $100\, $200 or $300 level.  Table sponsorship includes complimentary tickets to the event.  As a $100 sponsor\, you will receive 2 tickets to the event.  $200 and $300 levels include 4 tickets and 6 tickets.  Table sponsorship includes your business name on a table and signage placed prominently in the hall.  Your name will also be recognized in our printed program given to each person in attendance. \n\n	 \n\n	Thank you for your consideration in supporting this charitable event.  Please respond with your generous donation by January 15th.  \n\n	 \n\n	We look forward to seeing you!   \n\n	 \n\n	For any questions you may call Mike Scoma at\n\n	817-797-4355 or e-mail mascoma@sbcglobal.net\n\n	 \n\n	PS        New This Year - $500 Table Sponsors\n\n	            In addition to 7 tickets for a FULL TABLE\n\n	            Your Choice of Table (first come\, first serve for $500 Table Sponsors)\n\n	            1 RESERVED Parking Space with your Business Name\n\n	            Weekly Mention in E-Blast to ALL Knights (over 150)\n\n	            PLUS\n\n	            60 Minute Wine and Cheese Preview Party Before Event Opens to General Public!\n\n	Click here to edit...
X-ALT-DESC;FMTTYPE=text/html:<div style="color: gray\;">\n	<span style="font-size: medium\;"><span style="font-family: helvetica\;">Come and enjoy an evening of Charity and Fun\, Las Vegas style.&nbsp\; You are invited to our Knights of Columbus 30th annual Casino night fund raiser.&nbsp\; This event is our biggest fund raiser of the year raising money for many local charities.&nbsp\;&nbsp\; Detailed flyer available <a href="http://cloud.chambermaster.com/userfiles/UserFiles/chambers/642/File/VegasNightFlyer2014lsc.pdf"><span style="color: rgb(255\, 0\, 0)\;">here</span></a></span></span><br />\n	&nbsp\;<br />\n	<strong><em><span style="font-size: 14pt\;"><span style="font-family: helvetica\;">We would love to have you participate in one of 3 ways:</span></span></em></strong><br />\n	&nbsp\;<br />\n	<span style="font-size: medium\;"><span style="font-family: helvetica\;">The <strong><span style="font-size: 14pt\;"><span style="color: blue\;">First</span></span></strong></span> way to support this event is to <em>come and play</em>.&nbsp\; See the enclosed flyer for ticket prices and details.&nbsp\; Tickets include $2000 in poker chips and 2 free drink tickets. </span><br />\n	&nbsp\;<br />\n	<span style="font-size: medium\;"><span style="font-family: helvetica\;"><strong><span style="font-size: 14pt\;"><span style="color: rgb(255\, 102\, 0)\;">Second</span></span></strong></span>\, donate your product or service for our silent auction or raffle.&nbsp\;&nbsp\; We anticipate over 200 people will attend this gala affair and your participation will be recognized in our printed program given to each person in attendance.</span><br />\n	&nbsp\;<br />\n	<span style="font-size: medium\;"><span style="font-family: helvetica\;"><strong><span style="font-size: 14pt\;">Third</span></strong></span>\, sponsor a table at the $100\, $200 or $300 level.&nbsp\; Table sponsorship includes complimentary tickets to the event.&nbsp\; As a $100 sponsor\, you will receive 2 tickets to the event.&nbsp\; $200 and $300 levels include 4 tickets and 6 tickets.&nbsp\; Table sponsorship includes your business name on a table and signage placed prominently in the hall.&nbsp\; Your name will also be recognized in our printed program given to each person in attendance. </span><br />\n	&nbsp\;<br />\n	<span style="font-size: medium\;"><span style="font-family: helvetica\;">Thank you for your consideration in supporting this charitable event.&nbsp\; Please respond with your generous donation by January 15th.&nbsp\; </span></span><br />\n	&nbsp\;<br />\n	<span style="font-size: medium\;"><span style="font-family: helvetica\;">We look forward to seeing you!&nbsp\;&nbsp\; </span></span><br />\n	&nbsp\;<br />\n	<span style="font-size: medium\;"><span style="font-family: helvetica\;">For any questions you may call Mike Scoma at</span></span><br />\n	<span style="font-size: medium\;"><span style="font-family: helvetica\;">817-797-4355 or e-mail </span></span><a href="mailto:mascoma@sbcglobal.net"><span style="color: rgb(0\, 0\, 153)\;"><span style="font-size: medium\;"><span style="font-family: helvetica\;">mascoma@sbcglobal.net</span></span></span></a><br />\n	&nbsp\;<br />\n	<span style="font-size: 12pt\;"><span style="font-family: calibri\,sans-serif\;">PS&nbsp\;&nbsp\;&nbsp\;&nbsp\;&nbsp\;&nbsp\;&nbsp\; </span></span><strong><em><span style="font-size: 14pt\;"><span style="font-family: calibri\,sans-serif\;"><span style="color: rgb(255\, 102\, 0)\;">New This Year - $500 Table Sponsors</span></span></span></em></strong><br />\n	&nbsp\;&nbsp\;&nbsp\;&nbsp\;&nbsp\;&nbsp\;&nbsp\;&nbsp\;&nbsp\;&nbsp\;&nbsp\; <span style="font-size: 12pt\;"><span style="font-family: calibri\,sans-serif\;">In addition to <strong>7</strong> tickets for a FULL TABLE</span></span><br />\n	<span style="font-size: 12pt\;"><span style="font-family: calibri\,sans-serif\;">&nbsp\;&nbsp\;&nbsp\;&nbsp\;&nbsp\;&nbsp\;&nbsp\;&nbsp\;&nbsp\;&nbsp\;&nbsp\; Your Choice of Table (first come\, first serve for $500 Table Sponsors)</span></span><br />\n	<span style="font-size: 12pt\;"><span style="font-family: calibri\,sans-serif\;">&nbsp\;&nbsp\;&nbsp\;&nbsp\;&nbsp\;&nbsp\;&nbsp\;&nbsp\;&nbsp\;&nbsp\;&nbsp\; 1 RESERVED Parking Space with your Business Name</span></span><br />\n	<span style="font-size: 12pt\;"><span style="font-family: calibri\,sans-serif\;">&nbsp\;&nbsp\;&nbsp\;&nbsp\;&nbsp\;&nbsp\;&nbsp\;&nbsp\;&nbsp\;&nbsp\;&nbsp\; Weekly Mention in E-Blast to ALL Knights (over 150)</span></span><br />\n	<span style="font-size: 12pt\;"><span style="font-family: calibri\,sans-serif\;">&nbsp\;&nbsp\;&nbsp\;&nbsp\;&nbsp\;&nbsp\;&nbsp\;&nbsp\;&nbsp\;&nbsp\;&nbsp\; <strong><em><span style="color: rgb(255\, 102\, 0)\;">PLUS</span></em></strong></span></span><br />\n	&nbsp\;&nbsp\;&nbsp\;&nbsp\;&nbsp\;&nbsp\;&nbsp\;&nbsp\;&nbsp\;&nbsp\;&nbsp\; <strong><span style="font-size: 12pt\;"><span style="font-family: calibri\,sans-serif\;">60 Minute Wine and Cheese Preview Party Before Event Opens to General Public!</span></span></strong><br />\n	Click here to edit...</div>\n
LOCATION:1319 Brown Trail Bedford Texas
UID:e.642.6081
SEQUENCE:3
DTSTAMP:20260422T085113Z
URL:https://business.colleyvillechamber.org/events/details/knights-of-columbus-las-vegas-night-02-22-2014-6081
END:VEVENT

END:VCALENDAR
