BEGIN:VCALENDAR
VERSION:2.0
PRODID:-//ChamberMaster//Event Calendar 2.0//EN
METHOD:PUBLISH
X-PUBLISHED-TTL:P3D
REFRESH-INTERVAL:P3D
CALSCALE:GREGORIAN
BEGIN:VEVENT
DTSTART:20121023T220000Z
DTEND:20121024T000000Z
X-MICROSOFT-CDO-ALLDAYEVENT:FALSE
SUMMARY:Knights of Columbus Ribbon Cutting/Open House
DESCRIPTION:
X-ALT-DESC;FMTTYPE=text/html:
LOCATION:1319 Brown Trail Bedford\, TX 76022
UID:e.642.5091
SEQUENCE:3
DTSTAMP:20260423T110259Z
URL:https://business.colleyvillechamber.org/events/details/knights-of-columbus-ribbon-cutting-open-house-10-23-2012-5091
END:VEVENT

END:VCALENDAR
