BEGIN:VCALENDAR
VERSION:2.0
PRODID:-//ChamberMaster//Event Calendar 2.0//EN
METHOD:PUBLISH
X-PUBLISHED-TTL:P3D
REFRESH-INTERVAL:P3D
CALSCALE:GREGORIAN
BEGIN:VEVENT
DTSTART:20141121T220000Z
DTEND:20141122T010000Z
X-MICROSOFT-CDO-ALLDAYEVENT:FALSE
SUMMARY:Kotsanis Anniversary Open House
DESCRIPTION:Please join us on November 21st as we celebrate 30 years in business and as we look forward to the next 30 years! We will have food\, drinks\, chair massages\, and giveaways! Everything is FREE so bring a friend or two! For more information and to RSVP go to: kotsanis30years.splashthat.com or call 817-435-4405
X-ALT-DESC;FMTTYPE=text/html:Please join us on November 21st as we celebrate 30 years in business and as we look forward to the next 30 years! We will have food\, drinks\, chair massages\, and giveaways! Everything is FREE so bring a friend or two! For more information and to RSVP go to: kotsanis30years.splashthat.com or call 817-435-4405
LOCATION:2260 Pool Rd. Grapevine\, TX 76051
UID:e.642.7243
SEQUENCE:3
DTSTAMP:20260421T171945Z
URL:https://business.colleyvillechamber.org/events/details/kotsanis-anniversary-open-house-11-21-2014-7243
END:VEVENT

END:VCALENDAR
