BEGIN:VCALENDAR
VERSION:2.0
PRODID:-//ChamberMaster//Event Calendar 2.0//EN
METHOD:PUBLISH
X-PUBLISHED-TTL:P3D
REFRESH-INTERVAL:P3D
CALSCALE:GREGORIAN
BEGIN:VEVENT
DTSTART:20121212T180000Z
DTEND:20121212T190000Z
X-MICROSOFT-CDO-ALLDAYEVENT:FALSE
SUMMARY:Kotsanis Institute FREE Lunch
DESCRIPTION:Holiday stress bringing out the Cookie Monster in you?  Join us for a FREE Lunch and Learn and find out how to support a healthy brain and immune system during this busy season!\n\n	\n\n	We have limited seating so call 817-481-6342 now to RSVP before it fills up!
X-ALT-DESC;FMTTYPE=text/html:<p class="MsoNormal" style="margin-bottom: 3pt">\n	<span style="color: #0000cd"><span style="font-size: 12px"><span style="font-family: verdana"><span style="font-weight: bold">Holiday stress bringing out the Cookie Monster in you?&nbsp\; Join us for a FREE Lunch and Learn and find out how to support a healthy brain and immune system during this busy season!<br />\n	<br />\n	We have limited seating so call 817-481-6342 now to RSVP before it fills up!</span></span></span></span></p>\n<p class="MsoNormal" style="mso-pagination: none">\n	<span style="language: en">&nbsp\;</span></p>\n
LOCATION:Kotsanis Institute 2260 Pool Road Grapevine\, Texas 76051
UID:e.642.5132
SEQUENCE:3
DTSTAMP:20260423T070633Z
URL:https://business.colleyvillechamber.org/events/details/kotsanis-institute-free-lunch-12-12-2012-5132
END:VEVENT

END:VCALENDAR
