BEGIN:VCALENDAR
VERSION:2.0
PRODID:-//ChamberMaster//Event Calendar 2.0//EN
METHOD:PUBLISH
X-PUBLISHED-TTL:P3D
REFRESH-INTERVAL:P3D
CALSCALE:GREGORIAN
BEGIN:VEVENT
DTSTART:20140117T003000Z
DTEND:20140117T020000Z
X-MICROSOFT-CDO-ALLDAYEVENT:FALSE
SUMMARY:Ladies Night Out!
DESCRIPTION:Join us and bring a friend for a night of shopping\, door prizes\, spinal screenings\, live demonstrations\, giveaways\, and much more! Come shop your favorite and soon to be favorite vendors such as Mary Kay Cosmetics\, Origami Owl\, Palm Beach Tans\, Scentsy\, The Pampered Chef\, Beachbody\, Stella & Dot\, and much more! Appetizers and refreshments will be served.
X-ALT-DESC;FMTTYPE=text/html:Join us and bring a friend for a night of shopping\, door prizes\, spinal screenings\, live demonstrations\, giveaways\, and much more! Come shop your favorite and soon to be favorite vendors such as Mary Kay Cosmetics\, Origami Owl\, Palm Beach Tans\, Scentsy\, The Pampered Chef\, Beachbody\, Stella &amp\; Dot\, and much more! Appetizers and refreshments will be served. 
LOCATION:Back In Motion Chiropractic 104 Grapevine Highway #400 Hurst\, TX 76054
UID:e.642.6083
SEQUENCE:3
DTSTAMP:20260422T112611Z
URL:https://business.colleyvillechamber.org/events/details/ladies-night-out-01-16-2014-6083
END:VEVENT

END:VCALENDAR
