BEGIN:VCALENDAR
VERSION:2.0
PRODID:-//ChamberMaster//Event Calendar 2.0//EN
METHOD:PUBLISH
X-PUBLISHED-TTL:P3D
REFRESH-INTERVAL:P3D
CALSCALE:GREGORIAN
BEGIN:VEVENT
DTSTART:20150123T003000Z
DTEND:20150123T020000Z
X-MICROSOFT-CDO-ALLDAYEVENT:FALSE
SUMMARY:Ladies Night Out!
DESCRIPTION:Come join us for a night of shopping\, appetizers\, samples\, demonstrations\, giveaways. and our annual blood drive with Carter Blood! Vendors include MaryKay\, Unique Cosmetics\, Couture in a Can\, Orange Theory Fitness\, and Palm Beach Tans.
X-ALT-DESC;FMTTYPE=text/html:Come join us for a night of shopping\, appetizers\, samples\, demonstrations\, giveaways. and our annual blood drive with Carter Blood! Vendors include MaryKay\, Unique Cosmetics\, Couture in a Can\, Orange Theory Fitness\, and Palm Beach Tans.
LOCATION:104 Grapevine Hwy #400 Hurst\, TX 76054
UID:e.642.7498
SEQUENCE:3
DTSTAMP:20260421T153600Z
URL:https://business.colleyvillechamber.org/events/details/ladies-night-out-01-22-2015-7498
END:VEVENT

END:VCALENDAR
