BEGIN:VCALENDAR
VERSION:2.0
PRODID:-//ChamberMaster//Event Calendar 2.0//EN
METHOD:PUBLISH
X-PUBLISHED-TTL:P3D
REFRESH-INTERVAL:P3D
CALSCALE:GREGORIAN
BEGIN:VEVENT
DTSTART:20140616T233000Z
DTEND:20140617T010000Z
X-MICROSOFT-CDO-ALLDAYEVENT:FALSE
SUMMARY:Ladies Night Out!
DESCRIPTION:Come join us for a night of shopping your favorite local vendors and businesses!  Night will include door prizes\, samples\, live demonstrations\, massages\, appetizers & refreshments\, and a night out with friends!
X-ALT-DESC;FMTTYPE=text/html:Come join us for a night of shopping your favorite local vendors and businesses! &nbsp\;Night will include door prizes\, samples\, live demonstrations\, massages\, appetizers &amp\; refreshments\, and a night out with friends!
LOCATION:Back and Motion Family Chiropractic
UID:e.642.6890
SEQUENCE:3
DTSTAMP:20260422T014348Z
URL:https://business.colleyvillechamber.org/events/details/ladies-night-out-06-16-2014-6890
END:VEVENT

END:VCALENDAR
