BEGIN:VCALENDAR
VERSION:2.0
PRODID:-//ChamberMaster//Event Calendar 2.0//EN
METHOD:PUBLISH
X-PUBLISHED-TTL:P3D
REFRESH-INTERVAL:P3D
CALSCALE:GREGORIAN
BEGIN:VEVENT
DTSTART:20150114T140000Z
DTEND:20150114T220000Z
X-MICROSOFT-CDO-ALLDAYEVENT:FALSE
SUMMARY:Leadership Colleyville
DESCRIPTION:Government Day
X-ALT-DESC;FMTTYPE=text/html:Government Day
LOCATION:
UID:e.642.6908
SEQUENCE:3
DTSTAMP:20260421T141504Z
URL:https://business.colleyvillechamber.org/events/details/leadership-colleyville-01-14-2015-6908
END:VEVENT

END:VCALENDAR
