BEGIN:VCALENDAR
VERSION:2.0
PRODID:-//ChamberMaster//Event Calendar 2.0//EN
METHOD:PUBLISH
X-PUBLISHED-TTL:P3D
REFRESH-INTERVAL:P3D
CALSCALE:GREGORIAN
BEGIN:VEVENT
DTSTART:20140115T143000Z
DTEND:20140115T220000Z
X-MICROSOFT-CDO-ALLDAYEVENT:FALSE
SUMMARY:Leadership Colleyville
DESCRIPTION:Topic:  Education and Workforce / Class Project Start Date
X-ALT-DESC;FMTTYPE=text/html:Topic:&nbsp\; Education and Workforce / Class Project Start Date
LOCATION:
UID:e.642.5744
SEQUENCE:3
DTSTAMP:20260422T100230Z
URL:https://business.colleyvillechamber.org/events/details/leadership-colleyville-01-15-2014-5744
END:VEVENT

END:VCALENDAR
