BEGIN:VCALENDAR
VERSION:2.0
PRODID:-//ChamberMaster//Event Calendar 2.0//EN
METHOD:PUBLISH
X-PUBLISHED-TTL:P3D
REFRESH-INTERVAL:P3D
CALSCALE:GREGORIAN
BEGIN:VEVENT
DTSTART:20130206T120000Z
DTEND:20130207T050000Z
X-MICROSOFT-CDO-ALLDAYEVENT:FALSE
SUMMARY:Leadership Colleyville
DESCRIPTION:Tarrant County Day bus trip to Austin
X-ALT-DESC;FMTTYPE=text/html:Tarrant County Day bus trip to Austin
LOCATION:
UID:e.642.5103
SEQUENCE:3
DTSTAMP:20260423T052145Z
URL:https://business.colleyvillechamber.org/events/details/leadership-colleyville-02-06-2013-5103
END:VEVENT

END:VCALENDAR
