BEGIN:VCALENDAR
VERSION:2.0
PRODID:-//ChamberMaster//Event Calendar 2.0//EN
METHOD:PUBLISH
X-PUBLISHED-TTL:P3D
REFRESH-INTERVAL:P3D
CALSCALE:GREGORIAN
BEGIN:VEVENT
DTSTART:20140212T143000Z
DTEND:20140212T220000Z
X-MICROSOFT-CDO-ALLDAYEVENT:FALSE
SUMMARY:Leadership Colleyville
DESCRIPTION:Topic:  Non-profits / Boardsmanship
X-ALT-DESC;FMTTYPE=text/html:Topic:&nbsp\; Non-profits / Boardsmanship
LOCATION:
UID:e.642.5745
SEQUENCE:3
DTSTAMP:20260422T084701Z
URL:https://business.colleyvillechamber.org/events/details/leadership-colleyville-02-12-2014-5745
END:VEVENT

END:VCALENDAR
