BEGIN:VCALENDAR
VERSION:2.0
PRODID:-//ChamberMaster//Event Calendar 2.0//EN
METHOD:PUBLISH
X-PUBLISHED-TTL:P3D
REFRESH-INTERVAL:P3D
CALSCALE:GREGORIAN
BEGIN:VEVENT
DTSTART:20140319T133000Z
DTEND:20140319T210000Z
X-MICROSOFT-CDO-ALLDAYEVENT:FALSE
SUMMARY:Leadership Colleyville
DESCRIPTION:Topic:  Transportation / Economic Development
X-ALT-DESC;FMTTYPE=text/html:Topic:&nbsp\; Transportation / Economic Development
LOCATION:
UID:e.642.5746
SEQUENCE:3
DTSTAMP:20260422T083613Z
URL:https://business.colleyvillechamber.org/events/details/leadership-colleyville-03-19-2014-5746
END:VEVENT

END:VCALENDAR
