BEGIN:VCALENDAR
VERSION:2.0
PRODID:-//ChamberMaster//Event Calendar 2.0//EN
METHOD:PUBLISH
X-PUBLISHED-TTL:P3D
REFRESH-INTERVAL:P3D
CALSCALE:GREGORIAN
BEGIN:VEVENT
DTSTART:20150408T130000Z
DTEND:20150408T210000Z
X-MICROSOFT-CDO-ALLDAYEVENT:FALSE
SUMMARY:Leadership Colleyville
DESCRIPTION:Quality of Life Day
X-ALT-DESC;FMTTYPE=text/html:Quality of Life Day
LOCATION:
UID:e.642.6911
SEQUENCE:3
DTSTAMP:20260421T100830Z
URL:https://business.colleyvillechamber.org/events/details/leadership-colleyville-04-08-2015-6911
END:VEVENT

END:VCALENDAR
