BEGIN:VCALENDAR
VERSION:2.0
PRODID:-//ChamberMaster//Event Calendar 2.0//EN
METHOD:PUBLISH
X-PUBLISHED-TTL:P3D
REFRESH-INTERVAL:P3D
CALSCALE:GREGORIAN
BEGIN:VEVENT
DTSTART:20140514T133000Z
DTEND:20140514T210000Z
X-MICROSOFT-CDO-ALLDAYEVENT:FALSE
SUMMARY:Leadership Colleyville
DESCRIPTION:Topic:  How City and County Government Impacts our Lives
X-ALT-DESC;FMTTYPE=text/html:Topic:&nbsp\; How City and County Government Impacts our Lives
LOCATION:
UID:e.642.5748
SEQUENCE:3
DTSTAMP:20260422T033232Z
URL:https://business.colleyvillechamber.org/events/details/leadership-colleyville-05-14-2014-5748
END:VEVENT

END:VCALENDAR
