BEGIN:VCALENDAR
VERSION:2.0
PRODID:-//ChamberMaster//Event Calendar 2.0//EN
METHOD:PUBLISH
X-PUBLISHED-TTL:P3D
REFRESH-INTERVAL:P3D
CALSCALE:GREGORIAN
BEGIN:VEVENT
DTSTART:20141008T130000Z
DTEND:20141008T210000Z
X-MICROSOFT-CDO-ALLDAYEVENT:FALSE
SUMMARY:Leadership Colleyville
DESCRIPTION:Tools of Leadership Day
X-ALT-DESC;FMTTYPE=text/html:Tools of Leadership Day
LOCATION:
UID:e.642.6905
SEQUENCE:3
DTSTAMP:20260421T203721Z
URL:https://business.colleyvillechamber.org/events/details/leadership-colleyville-10-08-2014-6905
END:VEVENT

END:VCALENDAR
