BEGIN:VCALENDAR
VERSION:2.0
PRODID:-//ChamberMaster//Event Calendar 2.0//EN
METHOD:PUBLISH
X-PUBLISHED-TTL:P3D
REFRESH-INTERVAL:P3D
CALSCALE:GREGORIAN
BEGIN:VEVENT
DTSTART:20121017T130000Z
DTEND:20121017T220000Z
X-MICROSOFT-CDO-ALLDAYEVENT:FALSE
SUMMARY:Leadership Colleyville
DESCRIPTION:Ropes Challenge Course\n\nPonder\, Texas
X-ALT-DESC;FMTTYPE=text/html:Ropes Challenge Course<br />\nPonder\, Texas
LOCATION:
UID:e.642.5099
SEQUENCE:3
DTSTAMP:20260423T105342Z
URL:https://business.colleyvillechamber.org/events/details/leadership-colleyville-10-17-2012-5099
END:VEVENT

END:VCALENDAR
