BEGIN:VCALENDAR
VERSION:2.0
PRODID:-//ChamberMaster//Event Calendar 2.0//EN
METHOD:PUBLISH
X-PUBLISHED-TTL:P3D
REFRESH-INTERVAL:P3D
CALSCALE:GREGORIAN
BEGIN:VEVENT
DTSTART:20131211T143000Z
DTEND:20131211T220000Z
X-MICROSOFT-CDO-ALLDAYEVENT:FALSE
SUMMARY:Leadership Colleyville
DESCRIPTION:Topic:  Quality of Life / Class Project First Discussion
X-ALT-DESC;FMTTYPE=text/html:Topic:&nbsp\; Quality of Life / Class Project First Discussion
LOCATION:
UID:e.642.5743
SEQUENCE:3
DTSTAMP:20260422T114434Z
URL:https://business.colleyvillechamber.org/events/details/leadership-colleyville-12-11-2013-5743
END:VEVENT

END:VCALENDAR
