BEGIN:VCALENDAR
VERSION:2.0
PRODID:-//ChamberMaster//Event Calendar 2.0//EN
METHOD:PUBLISH
X-PUBLISHED-TTL:P3D
REFRESH-INTERVAL:P3D
CALSCALE:GREGORIAN
BEGIN:VEVENT
DTSTART:20140409T133000Z
DTEND:20140409T210000Z
X-MICROSOFT-CDO-ALLDAYEVENT:FALSE
SUMMARY:Leadership Colleyville 2014
DESCRIPTION:Topic:  Healthcare
X-ALT-DESC;FMTTYPE=text/html:Topic:&nbsp\; Healthcare
LOCATION:
UID:e.642.5747
SEQUENCE:3
DTSTAMP:20260422T051936Z
URL:https://business.colleyvillechamber.org/events/details/leadership-colleyville-2014-5747
END:VEVENT

END:VCALENDAR
