BEGIN:VCALENDAR
VERSION:2.0
PRODID:-//ChamberMaster//Event Calendar 2.0//EN
METHOD:PUBLISH
X-PUBLISHED-TTL:P3D
REFRESH-INTERVAL:P3D
CALSCALE:GREGORIAN
BEGIN:VEVENT
DTSTART:20150521T223000Z
DTEND:20150522T003000Z
X-MICROSOFT-CDO-ALLDAYEVENT:FALSE
SUMMARY:Leadership Colleyville Alumni Reception
DESCRIPTION:The Leadership Colleyville Alumni Group cordially invites you to the first Alumni Reception. \n\n\n\nThe alumni reception will be an opportunity for Leadership Colleyville Alumni to network and discuss how the group can give back and continue to positively impact the Colleyville community and Colleyville Area Chamber of Commerce.  For more information contact Heather Gaven at hgaven@colleyville.com or 817.503.1113. We hope to see you there!\n\nDrinks and appetizers will be served.
X-ALT-DESC;FMTTYPE=text/html:The Leadership Colleyville Alumni Group cordially invites you to the first Alumni Reception.&nbsp\;<br />\n<br />\nThe alumni reception will be an opportunity for Leadership Colleyville Alumni to network and discuss how the group can give back and continue to positively impact the Colleyville community and Colleyville Area Chamber of Commerce.&nbsp\; For more information contact Heather Gaven at <a href="mailto:hgaven@colleyville.com"><font color="#0066cc">hgaven@colleyville.com</font></a> or 817.503.1113. We hope to see you there!<br />\nDrinks and appetizers will be served.
LOCATION:The Colleyville Center 5301 Riverwalk Drive Colleyville\, TX 76034
UID:e.642.7546
SEQUENCE:3
DTSTAMP:20260421T084035Z
URL:https://business.colleyvillechamber.org/events/details/leadership-colleyville-alumni-reception-05-21-2015-7546
END:VEVENT

END:VCALENDAR
