BEGIN:VCALENDAR
VERSION:2.0
PRODID:-//ChamberMaster//Event Calendar 2.0//EN
METHOD:PUBLISH
X-PUBLISHED-TTL:P3D
REFRESH-INTERVAL:P3D
CALSCALE:GREGORIAN
BEGIN:VEVENT
DTSTART:20241017T133000Z
DTEND:20241017T214500Z
X-MICROSOFT-CDO-ALLDAYEVENT:FALSE
SUMMARY:Leadership Colleyville - City of Colleyville Day
DESCRIPTION:This event is part of our 2024 - 2025 Leadership Colleyville program. Throughout the day\, participants will have the opportunity to hear directly from city representatives and tour various city departments\, gaining valuable insights into local government\, services\, and community initiatives. \n\n\n\nPlease note: This is a closed event\, exclusively for the current Leadership Colleyville class and committee.
X-ALT-DESC;FMTTYPE=text/html:This event is part of our 2024 - 2025 Leadership Colleyville program. Throughout the day\, participants will have the opportunity to hear directly from city representatives and tour various city departments\, gaining valuable insights into local government\, services\, and community initiatives.&nbsp\;<br />\n<br />\n<strong>Please note: This is a closed event\, exclusively for the current Leadership Colleyville class and committee.</strong>
LOCATION:
UID:e.642.31021
SEQUENCE:3
DTSTAMP:20260423T003343Z
URL:https://business.colleyvillechamber.org/events/details/leadership-colleyville-city-of-colleyville-day-31021
END:VEVENT

END:VCALENDAR
