BEGIN:VCALENDAR
VERSION:2.0
PRODID:-//ChamberMaster//Event Calendar 2.0//EN
METHOD:PUBLISH
X-PUBLISHED-TTL:P3D
REFRESH-INTERVAL:P3D
CALSCALE:GREGORIAN
BEGIN:VEVENT
DTSTART:20131009T133000Z
DTEND:20131009T210000Z
X-MICROSOFT-CDO-ALLDAYEVENT:FALSE
SUMMARY:Leadership Colleyville Opening Retreat
DESCRIPTION:Opening Retreat at Challenge Coarse\n\nLeadership on the Move\, LLC\n\n15238 Old Stony Road\n\nPonder\, TX  76259\n\n940-479-2920
X-ALT-DESC;FMTTYPE=text/html:Opening Retreat at Challenge Coarse<br />\nLeadership on the Move\, LLC<br />\n15238 Old Stony Road<br />\nPonder\, TX&nbsp\; 76259<br />\n940-479-2920
LOCATION:
UID:e.642.5710
SEQUENCE:3
DTSTAMP:20260422T163316Z
URL:https://business.colleyvillechamber.org/events/details/leadership-colleyville-opening-retreat-10-09-2013-5710
END:VEVENT

END:VCALENDAR
