BEGIN:VCALENDAR
VERSION:2.0
PRODID:-//ChamberMaster//Event Calendar 2.0//EN
METHOD:PUBLISH
X-PUBLISHED-TTL:P3D
REFRESH-INTERVAL:P3D
CALSCALE:GREGORIAN
BEGIN:VEVENT
DTSTART:20140917T130000Z
DTEND:20140917T220000Z
X-MICROSOFT-CDO-ALLDAYEVENT:FALSE
SUMMARY:Leadership Colleyville - Ropes Training Course
DESCRIPTION:Team-building retreat/ropes training course at Leadership On the Move in Ponder\, TX\, led by Dick Hammond.
X-ALT-DESC;FMTTYPE=text/html:Team-building retreat/ropes training course at Leadership On the Move in Ponder\, TX\, led by Dick Hammond.
LOCATION:
UID:e.642.6904
SEQUENCE:3
DTSTAMP:20260421T205112Z
URL:https://business.colleyvillechamber.org/events/details/leadership-colleyville-ropes-training-course-09-17-2014-6904
END:VEVENT

END:VCALENDAR
