BEGIN:VCALENDAR
VERSION:2.0
PRODID:-//ChamberMaster//Event Calendar 2.0//EN
METHOD:PUBLISH
X-PUBLISHED-TTL:P3D
REFRESH-INTERVAL:P3D
CALSCALE:GREGORIAN
BEGIN:VEVENT
DTSTART:20140916T130000Z
DTEND:20140916T143000Z
X-MICROSOFT-CDO-ALLDAYEVENT:FALSE
SUMMARY:LinkedIn or LinkedOut Seminar
DESCRIPTION:Free Seminar for Chamber Members!  Improve your LinkedIn presence with certified LinkedIn trainer Terry Sullivan\, followed by the next Tuesday featuring an in-depth session.
X-ALT-DESC;FMTTYPE=text/html:Free Seminar for Chamber Members!&nbsp\; Improve your LinkedIn presence with certified LinkedIn trainer Terry Sullivan\, followed by the next Tuesday featuring an in-depth session. 
LOCATION:Dallas Baptist University Hurst-Colleyville 110 Grapevine Highway Hurst\, Texas 76054
UID:e.642.6917
SEQUENCE:3
DTSTAMP:20260421T204145Z
URL:https://business.colleyvillechamber.org/events/details/linkedin-or-linkedout-seminar-09-16-2014-6917
END:VEVENT

END:VCALENDAR
