BEGIN:VCALENDAR
VERSION:2.0
PRODID:-//ChamberMaster//Event Calendar 2.0//EN
METHOD:PUBLISH
X-PUBLISHED-TTL:P3D
REFRESH-INTERVAL:P3D
CALSCALE:GREGORIAN
BEGIN:VEVENT
DTSTART:20140923T130000Z
DTEND:20140923T170000Z
X-MICROSOFT-CDO-ALLDAYEVENT:FALSE
SUMMARY:LinkedIn or LinkedOut Seminar
DESCRIPTION:Improve your LinkedIn presence with certified LinkedIn trainer Terry Sullivan.\n\nIn-depth session where participants receive hands-on\, individualized training on creating and upgrading your LinkedIn presence.
X-ALT-DESC;FMTTYPE=text/html:Improve your LinkedIn presence with certified LinkedIn trainer Terry Sullivan.<br />\nIn-depth session where participants receive hands-on\, individualized training on creating and upgrading your LinkedIn presence.
LOCATION:Dallas Baptist University Hurst-Colleyville 110 Grapevine Highway Hurst\, Texas 76054
UID:e.642.6919
SEQUENCE:3
DTSTAMP:20260421T204145Z
URL:https://business.colleyvillechamber.org/events/details/linkedin-or-linkedout-seminar-09-23-2014-6919
END:VEVENT

END:VCALENDAR
