BEGIN:VCALENDAR
VERSION:2.0
PRODID:-//ChamberMaster//Event Calendar 2.0//EN
METHOD:PUBLISH
X-PUBLISHED-TTL:P3D
REFRESH-INTERVAL:P3D
CALSCALE:GREGORIAN
BEGIN:VEVENT
DTSTART:20241129T124500Z
DTEND:20241129T140000Z
X-MICROSOFT-CDO-ALLDAYEVENT:FALSE
SUMMARY:Lions Club
DESCRIPTION:Colleyville Lions Club
X-ALT-DESC;FMTTYPE=text/html:Colleyville Lions Club
LOCATION:Crown of Life Lutheran Church 6605 Pleasant Run Rd. Colleyville\, TX 76034
UID:e.642.30549
SEQUENCE:3
DTSTAMP:20260424T083749Z
URL:https://business.colleyvillechamber.org/events/details/lions-club-11-29-2024-30549
END:VEVENT

END:VCALENDAR
