BEGIN:VCALENDAR
VERSION:2.0
PRODID:-//ChamberMaster//Event Calendar 2.0//EN
METHOD:PUBLISH
X-PUBLISHED-TTL:P3D
REFRESH-INTERVAL:P3D
CALSCALE:GREGORIAN
BEGIN:VEVENT
DTSTART:20240927T170000Z
DTEND:20240930T000000Z
X-MICROSOFT-CDO-ALLDAYEVENT:FALSE
SUMMARY:Lions Club Hole in One
DESCRIPTION:36th Annual Lions Club Hole in One\n\n$75\,000 Grand Prize
X-ALT-DESC;FMTTYPE=text/html:36th Annual Lions Club Hole in One<br />\n$75\,000 Grand Prize
LOCATION:Bob Moore's Sports Center
UID:e.642.30594
SEQUENCE:3
DTSTAMP:20260422T102702Z
URL:https://business.colleyvillechamber.org/events/details/lions-club-hole-in-one-30594
END:VEVENT

END:VCALENDAR
