BEGIN:VCALENDAR
VERSION:2.0
PRODID:-//ChamberMaster//Event Calendar 2.0//EN
METHOD:PUBLISH
X-PUBLISHED-TTL:P3D
REFRESH-INTERVAL:P3D
CALSCALE:GREGORIAN
BEGIN:VEVENT
DTSTART:20140627T153000Z
DTEND:20140627T200000Z
X-MICROSOFT-CDO-ALLDAYEVENT:FALSE
SUMMARY:Lunch Mixer at National Bank of Texas
DESCRIPTION:Please join us for lunch\n\nComplimentary Hotdogs\, chips and beverages
X-ALT-DESC;FMTTYPE=text/html:Please join us for lunch<br />\nComplimentary Hotdogs\, chips and beverages
LOCATION:The National Bank of Texas 2080 Precinct Line Rd Hurst\, TX 76054
UID:e.642.6901
SEQUENCE:3
DTSTAMP:20260422T014953Z
URL:https://business.colleyvillechamber.org/events/details/lunch-mixer-at-national-bank-of-texas-06-27-2014-6901
END:VEVENT

END:VCALENDAR
