BEGIN:VCALENDAR
VERSION:2.0
PRODID:-//ChamberMaster//Event Calendar 2.0//EN
METHOD:PUBLISH
X-PUBLISHED-TTL:P3D
REFRESH-INTERVAL:P3D
CALSCALE:GREGORIAN
BEGIN:VEVENT
DTSTART:20121031T230000Z
DTEND:20121101T020000Z
X-MICROSOFT-CDO-ALLDAYEVENT:FALSE
SUMMARY:Mall-Wide Trick-or-Treat
DESCRIPTION:Wednesday\, October 31\n\n6:00 pm\, North East Mall\n\nJoin us at North East Mall for a safe\, indoor Trick-or-Treating experience the entire family will enjoy!  Bring your lil' pumpkin to the mall and Trick-or-Treat at participating stores starting at 6:00 pm.  There will be an assortment of candy\, stickers and other fun treats distributed by participating retailers\, while supplies last.  Receive a free Trick-or-Treat bag in Center Court\, while supplies last.  Plus\, get your photo taken in front of our Fall backdrop and choose from an assortment of photo packages that can be printed on the spot!
X-ALT-DESC;FMTTYPE=text/html:<br />\nWednesday\, October 31<br />\n6:00 pm\, North East Mall<br />\nJoin us at North East Mall for a safe\, indoor Trick-or-Treating experience the entire family will enjoy!&nbsp\; Bring your lil&#39\; pumpkin to the mall and Trick-or-Treat at participating stores starting at 6:00 pm.&nbsp\; There will be an assortment of candy\, stickers and other fun treats distributed by participating retailers\, while supplies last.&nbsp\; Receive a free Trick-or-Treat bag in Center Court\, while supplies last.&nbsp\; Plus\, get your photo taken in front of our Fall backdrop and choose from an assortment of photo packages that can be printed on the spot!
LOCATION:Throughout the Mall
UID:e.642.5108
SEQUENCE:3
DTSTAMP:20260423T105458Z
URL:https://business.colleyvillechamber.org/events/details/mall-wide-trick-or-treat-10-31-2012-5108
END:VEVENT

END:VCALENDAR
