BEGIN:VCALENDAR
VERSION:2.0
PRODID:-//ChamberMaster//Event Calendar 2.0//EN
METHOD:PUBLISH
X-PUBLISHED-TTL:P3D
REFRESH-INTERVAL:P3D
CALSCALE:GREGORIAN
BEGIN:VEVENT
DTSTART;VALUE=DATE:20150323
DTEND;VALUE=DATE:20150405
TRANSP:TRANSPARENT
X-MICROSOFT-CDO-ALLDAYEVENT:TRUE
SUMMARY:March Madness
DESCRIPTION:March Madness\nAll Existing Patients:\n\nDonate a youth size basketball and receive a FREE adjustment on April 2nd\n\n\n\nAll New Patients:\n\nDonate a youth size basketball between March 23 through April 4th and receive an initial office visit\, which includes a personal consultation/case history\, examination and x-rays if needed.\n\n                 Basketballs will be donated to a local school\n\nCan donate $20 to the cause instead of a ball.\n\n                           Call our office to schedule!\n\n                            See you soon!
X-ALT-DESC;FMTTYPE=text/html:<h2 style="font-style: italic\;"><strong><span style="color: rgb(255\, 165\, 0)\;"><span style="font-size: 14px\;">&nbsp\;&nbsp\;&nbsp\;&nbsp\;&nbsp\;&nbsp\;&nbsp\;&nbsp\;&nbsp\;&nbsp\;&nbsp\;&nbsp\;&nbsp\;&nbsp\;&nbsp\;&nbsp\;&nbsp\;&nbsp\;&nbsp\;&nbsp\;&nbsp\;&nbsp\;&nbsp\;&nbsp\;&nbsp\;&nbsp\;&nbsp\;&nbsp\;&nbsp\;&nbsp\;&nbsp\;&nbsp\;&nbsp\;&nbsp\;&nbsp\;&nbsp\;&nbsp\;&nbsp\;&nbsp\;&nbsp\;&nbsp\;&nbsp\;&nbsp\;&nbsp\;&nbsp\;<u><span style="font-size: 18px\;"><span style="font-family: times new roman\;"> March Madness</span></span></u></span></span></strong></h2>\n<strong><span style="color: rgb(255\, 165\, 0)\;"><span style="font-size: 14px\;"><u>All Existing Patients</u>:</span><br />\nDonate a youth size basketball and receive a FREE adjustment on April 2nd<br />\n<br />\n<span style="font-size: 14px\;"><u>All New Patients</u>:</span><br />\nDonate a youth size basketball between March 23 through April 4th and receive an initial office visit\, which includes a personal consultation/case history\, examination and x-rays if needed.</span><br />\n&nbsp\;&nbsp\;&nbsp\;&nbsp\;&nbsp\;&nbsp\;&nbsp\;&nbsp\;&nbsp\;&nbsp\;&nbsp\;&nbsp\;&nbsp\;&nbsp\; &nbsp\; Basketballs will be donated to a local school<br />\n<span style="color: rgb(255\, 165\, 0)\;">Can donate $20 to the cause instead of a ball.<br />\n&nbsp\;&nbsp\;&nbsp\;&nbsp\;&nbsp\;&nbsp\;&nbsp\;&nbsp\;&nbsp\;&nbsp\;&nbsp\;&nbsp\;&nbsp\;&nbsp\;&nbsp\;&nbsp\;&nbsp\;&nbsp\;&nbsp\;&nbsp\;&nbsp\;&nbsp\;&nbsp\;&nbsp\;&nbsp\;&nbsp\; Call our office to schedule!<br />\n&nbsp\;&nbsp\;&nbsp\;&nbsp\;&nbsp\;&nbsp\;&nbsp\;&nbsp\;&nbsp\;&nbsp\;&nbsp\;&nbsp\;&nbsp\;&nbsp\;&nbsp\;&nbsp\;&nbsp\;&nbsp\;&nbsp\;&nbsp\;&nbsp\;&nbsp\;&nbsp\;&nbsp\;&nbsp\;&nbsp\;&nbsp\; See you soon!</span></strong><br />\n<br />\n&nbsp\;
LOCATION:Back In Motion 104 Grapevine Hwy #400
UID:e.642.7568
SEQUENCE:3
DTSTAMP:20260421T083807Z
URL:https://business.colleyvillechamber.org/events/details/march-madness-03-23-2015-7568
END:VEVENT

END:VCALENDAR
