BEGIN:VCALENDAR
VERSION:2.0
PRODID:-//ChamberMaster//Event Calendar 2.0//EN
METHOD:PUBLISH
X-PUBLISHED-TTL:P3D
REFRESH-INTERVAL:P3D
CALSCALE:GREGORIAN
BEGIN:VEVENT
DTSTART:20230221T173000Z
DTEND:20230221T190000Z
X-MICROSOFT-CDO-ALLDAYEVENT:FALSE
SUMMARY:Mardi Gras Luncheon
DESCRIPTION:JOIN US ON FAT TUESDAY FOR NETWORKING\, DOOR PRIZES\, CAJUN FOOD\, AND MARDI GRAS-THEMED FUN! LAISSEZ LE BON TEMPS ROULER!\nBring your business cards and your appetite for this fun event. Lunch tickets will likely sell out. Get yours today!\n\n\n	Early Bird (by 1/21/23): $35.00\n	Regular Admission (by 2/17/23): $45.00\n	Last Minute Admission (after 2/18/23): $55.00\n\n\nCatering by Scratch Kitchen. (If you have special dietary needs please let us know ahead of time by emailing support@improver.network. We will attempt to accommodate. )\n\nThere will be no long presentations or heavy-handed sales pitches at this event. Just a fun networking event hosted by the Improver Network.
X-ALT-DESC;FMTTYPE=text/html:<h4>JOIN US ON FAT TUESDAY FOR NETWORKING\, DOOR PRIZES\, CAJUN FOOD\, AND MARDI GRAS-THEMED FUN! LAISSEZ LE BON TEMPS ROULER!</h4>\n<span style="color:rgb(0\, 0\, 0)\; font-family:ff-basic-gothic-pro\,sans-serif\; font-size:14px">Bring your business cards and your appetite for this fun event.&nbsp\;</span><span style="color:rgb(0\, 0\, 0)\; font-family:ff-basic-gothic-pro\,sans-serif\; font-size:14px">Lunch tickets will likely sell out. Get yours today!</span>\n\n<ul>\n	<li><span style="color:rgb(0\, 0\, 0)"><strong>Early Bird</strong>&nbsp\;(by 1/21/23): $35.00</span></li>\n	<li><span style="color:rgb(0\, 0\, 0)"><strong>Regular Admission</strong>&nbsp\;(by 2/17/23): $45.00</span></li>\n	<li><span style="color:rgb(0\, 0\, 0)"><strong>Last Minute Admission&nbsp\;</strong>(after 2/18/23): $55.00</span></li>\n</ul>\n\n<p><span style="color:rgb(0\, 0\, 0)">Catering by Scratch Kitchen.&nbsp\;</span><span style="color:rgb(0\, 0\, 0)">(If you have special dietary needs please let us know ahead of time by emailing support@improver.network. We will attempt to accommodate. )</span></p>\n\n<p><span style="color:rgb(0\, 0\, 0)">There will be no long presentations or heavy-handed sales pitches at this event. Just a fun networking event hosted by the Improver Network.</span></p>\n
LOCATION:Colleyville Center 5301 Riverwalk Dr Colleyville\, TX 7603
UID:e.642.27157
SEQUENCE:3
DTSTAMP:20260424T070653Z
URL:https://business.colleyvillechamber.org/events/details/mardi-gras-luncheon-27157
END:VEVENT

END:VCALENDAR
