BEGIN:VCALENDAR
VERSION:2.0
PRODID:-//ChamberMaster//Event Calendar 2.0//EN
METHOD:PUBLISH
X-PUBLISHED-TTL:P3D
REFRESH-INTERVAL:P3D
CALSCALE:GREGORIAN
BEGIN:VEVENT
DTSTART:20141218T134500Z
DTEND:20141218T143000Z
X-MICROSOFT-CDO-ALLDAYEVENT:FALSE
SUMMARY:Mastermind Colleyville
DESCRIPTION:Looking to generate business referrals and get to know more people in your community?  Come visit this weekly networking group for fantastic business and personal development opportunities.  Bring a colleague and enjoy local\, professional business networking!
X-ALT-DESC;FMTTYPE=text/html:<div>Looking to generate business referrals and get to know more people in your community?&nbsp\; Come visit this weekly networking group for fantastic business and personal development opportunities.&nbsp\;&nbsp\;Bring a colleague and enjoy local\, professional business networking!</div>\n
LOCATION:Bacon's Bistro (next to Apple Annie's) 714 A Highway 26 (Tom Thumb Shopping Center) Hurst\, Texas 76054
UID:e.642.6060
SEQUENCE:3
DTSTAMP:20260421T153335Z
URL:https://business.colleyvillechamber.org/events/details/mastermind-colleyville-12-18-2014-6060
END:VEVENT

END:VCALENDAR
