BEGIN:VCALENDAR
VERSION:2.0
PRODID:-//ChamberMaster//Event Calendar 2.0//EN
METHOD:PUBLISH
X-PUBLISHED-TTL:P3D
REFRESH-INTERVAL:P3D
CALSCALE:GREGORIAN
BEGIN:VEVENT
DTSTART:20130916T160000Z
DTEND:20130917T010000Z
X-MICROSOFT-CDO-ALLDAYEVENT:FALSE
SUMMARY:Meat @ Mooyah - Eat for a Cause
DESCRIPTION:Please Join us for a Fundraiser at Mooyah Burgers in Colleyville\, a portion of the proceeds will be donated to Home Care Assistance Memory Movers for Grapevine Alzheimer's Walk 2013. Be sure to let them know you are there to support HCA.\n\nOr\, if you aren't hungry for a burger\, be sure to visit our team page to make a donation or join us in the walk for a great cause. http://bit.ly/1dtbG57
X-ALT-DESC;FMTTYPE=text/html:Please Join us for a Fundraiser at Mooyah Burgers in Colleyville\, a portion of the proceeds will be donated to Home Care Assistance Memory Movers for Grapevine Alzheimer&#39\;s Walk 2013. Be sure to let them know you are there to support HCA.<br />\nOr\, if you aren&#39\;t hungry for a burger\, be sure to visit our team page to make a donation or join us in the walk for a great cause. http://bit.ly/1dtbG57&nbsp\;
LOCATION:Mooyah Burgers in Colleyville 5615 Colleyville Blvd. #300
UID:e.642.5733
SEQUENCE:3
DTSTAMP:20260422T163119Z
URL:https://business.colleyvillechamber.org/events/details/meat-mooyah-eat-for-a-cause-09-16-2013-5733
END:VEVENT

END:VCALENDAR
