BEGIN:VCALENDAR
VERSION:2.0
PRODID:-//ChamberMaster//Event Calendar 2.0//EN
METHOD:PUBLISH
X-PUBLISHED-TTL:P3D
REFRESH-INTERVAL:P3D
CALSCALE:GREGORIAN
BEGIN:VEVENT
DTSTART:20120420T200000Z
DTEND:20120420T220000Z
X-MICROSOFT-CDO-ALLDAYEVENT:FALSE
SUMMARY:Member Volunteer Party
DESCRIPTION:Our chamber is fortunate to have members committed to volunteering their time to chamber event committees\, luncheons\, ribbon cuttings and assisting the chamber staff on a weekly basis.\n\n	\n\n	The first 25 volunteers receive a FREE drink!\n\n	 \n\n	Join us to Celebrate People in Action
X-ALT-DESC;FMTTYPE=text/html:<div align="left" style="text-align: left\; font-family: arial narrow\, arial mt condensed light\, sans-serif\; color: #000000\; font-size: 24pt">\n	<span style="font-family: corbel\, geneva\, verdana\, arial\, sans-serif\; font-size: 12pt">Our chamber is fortunate to have members committed to volunteering their time to chamber event committees\, luncheons\, ribbon cuttings and assisting the chamber staff on a weekly basis.<br />\n	<br />\n	The first 25 volunteers&nbsp\;receive a FREE drink!</span></div>\n<div>\n	&nbsp\;</div>\n<div align="center" style="text-align: center">\n	<strong><span style="font-family: corbel\, geneva\, verdana\, arial\, sans-serif\; color: #bf5300\; font-size: 12pt">Join us to Celebrate People in Action <span _fck_bookmark="1" style="display: none">&nbsp\;</span></span></strong></div>\n
LOCATION:Buffalo Cantina 2801 Southlake Blvd. Southlake
UID:e.642.5036
SEQUENCE:3
DTSTAMP:20260423T195433Z
URL:https://business.colleyvillechamber.org/events/details/member-volunteer-party-04-20-2012-5036
END:VEVENT

END:VCALENDAR
