BEGIN:VCALENDAR
VERSION:2.0
PRODID:-//ChamberMaster//Event Calendar 2.0//EN
METHOD:PUBLISH
X-PUBLISHED-TTL:P3D
REFRESH-INTERVAL:P3D
CALSCALE:GREGORIAN
BEGIN:VEVENT
DTSTART:20130710T160000Z
DTEND:20130710T180000Z
X-MICROSOFT-CDO-ALLDAYEVENT:FALSE
SUMMARY:Membership Luncheon
DESCRIPTION:The Colleyville Area Chamber of Commerce presents the 2012-2013 Leadership Colleyville Graduation Ceremony.\n\nKeynote Speaker\;  Dennis Knautz\, President & CEO Acme Brick\n\nTopic:  Leadership the Warren Buffet Way
X-ALT-DESC;FMTTYPE=text/html:The Colleyville Area Chamber of Commerce presents the 2012-2013 Leadership Colleyville Graduation Ceremony.<br />\n<span style="font-size: 10pt"><span style="font-family: arial\, sans-serif">Keynote Speaker\;&nbsp\; Dennis Knautz\, President &amp\; CEO Acme Brick</span></span><br />\n<span style="font-size: 10pt"><span style="font-family: arial\, sans-serif">Topic:&nbsp\; Leadership the Warren Buffet Way</span></span><br />\n<br />\n
LOCATION:Compass Center 4201 Pool Road Grapevine\, TX 76051
UID:e.642.5671
SEQUENCE:3
DTSTAMP:20260422T193048Z
URL:https://business.colleyvillechamber.org/events/details/membership-luncheon-07-10-2013-5671
END:VEVENT

END:VCALENDAR
